BEGIN:VCALENDAR
VERSION:2.0
PRODID:-//Dallas Area Service Committee of NA - ECPv6.15.20//NONSGML v1.0//EN
CALSCALE:GREGORIAN
METHOD:PUBLISH
X-ORIGINAL-URL:https://dallasareana.org
X-WR-CALDESC:Events for Dallas Area Service Committee of NA
REFRESH-INTERVAL;VALUE=DURATION:PT1H
X-Robots-Tag:noindex
X-PUBLISHED-TTL:PT1H
BEGIN:VTIMEZONE
TZID:UTC
BEGIN:STANDARD
TZOFFSETFROM:+0000
TZOFFSETTO:+0000
TZNAME:UTC
DTSTART:20240101T000000
END:STANDARD
END:VTIMEZONE
BEGIN:VEVENT
DTSTART;TZID=UTC:20260412T140000
DTEND;TZID=UTC:20260412T210000
DTSTAMP:20260423T163510
CREATED:20260405T155249Z
LAST-MODIFIED:20260405T155249Z
UID:603-1776002400-1776027600@dallasareana.org
SUMMARY:NAFTH April Speaker Jam
DESCRIPTION:NA from the Heart is having a speaker jam on 12 April 2026 @ 1620 Martin Luther King Blvd from 2pm to 9pm!
URL:https://dallasareana.org/event/nafth-april-speaker-jam/
LOCATION:TX
ATTACH;FMTTYPE=image/png:https://dallasareana.org/wp-content/uploads/2026/04/Screenshot-2026-04-05-105107.png
END:VEVENT
BEGIN:VEVENT
DTSTART;VALUE=DATE:20260402
DTEND;VALUE=DATE:20260406
DTSTAMP:20260423T163510
CREATED:20260225T235503Z
LAST-MODIFIED:20260225T235804Z
UID:565-1775088000-1775433599@dallasareana.org
SUMMARY:LoneStar Regional Convention LXI
DESCRIPTION:More INFORMATION FOUND HERE
URL:https://dallasareana.org/event/lonestar-regional-convention-lxi/
LOCATION:LS Regional Convention\, Hilton DFW Lakes1800 Highway 26 East\, Grapevine\, TX\, 76051\, United States
ATTACH;FMTTYPE=image/png:https://dallasareana.org/wp-content/uploads/2026/02/Entertainment-Final-Flyer-Region.png
END:VEVENT
BEGIN:VEVENT
DTSTART;TZID=UTC:20260328T130000
DTEND;TZID=UTC:20260328T180000
DTSTAMP:20260423T163510
CREATED:20260121T032434Z
LAST-MODIFIED:20260311T022045Z
UID:490-1774702800-1774720800@dallasareana.org
SUMMARY:Spring Fling Unity Day - Central Group
DESCRIPTION:
URL:https://dallasareana.org/event/spring-fling-unity-day-central-group/
LOCATION:Exall Recreation Center\, 1355 Adair Street\, Dallas\, 75204\, United States
ATTACH;FMTTYPE=image/jpeg:https://dallasareana.org/wp-content/uploads/2026/01/5a69712e-ccfb-4485-9256-385d9a4812fb1-scaled.jpg
END:VEVENT
BEGIN:VEVENT
DTSTART;TZID=UTC:20260321T143000
DTEND;TZID=UTC:20260321T210000
DTSTAMP:20260423T163510
CREATED:20260118T152935Z
LAST-MODIFIED:20260118T152935Z
UID:481-1774103400-1774126800@dallasareana.org
SUMMARY:5th Annual Women's Speaker Jam - Duncanville Group
DESCRIPTION:
URL:https://dallasareana.org/event/5th-annual-womens-speaker-jam-duncanville-group/
LOCATION:Duncanville Group\, 2550 W Redbird Lane #206\, Dallas\, TX\, 75237\, United States
ATTACH;FMTTYPE=image/jpeg:https://dallasareana.org/wp-content/uploads/2026/01/Duncanville-5th-Womens-Speaker-Jam.jpg
END:VEVENT
BEGIN:VEVENT
DTSTART;TZID=UTC:20260315T140000
DTEND;TZID=UTC:20260315T150000
DTSTAMP:20260423T163510
CREATED:20260301T220711Z
LAST-MODIFIED:20260301T220711Z
UID:584-1773583200-1773586800@dallasareana.org
SUMMARY:H&I Meeting
DESCRIPTION:Come to find out more about how to get involved in being of service for the Area Hospitals and Institutions subcommittee.
URL:https://dallasareana.org/event/hi-meeting/
LOCATION:NorthSide\, 11836 Judd Ct\, Ste 318\, Dallas\, TX\, 75243\, United States
END:VEVENT
BEGIN:VEVENT
DTSTART;VALUE=DATE:20260309
DTEND;VALUE=DATE:20260329
DTSTAMP:20260423T163510
CREATED:20260218T235331Z
LAST-MODIFIED:20260311T023126Z
UID:548-1773014400-1774742399@dallasareana.org
SUMMARY:OUTREACH SUBCOMMITTEE MEETING March 14\, 27 & 28
DESCRIPTION:
URL:https://dallasareana.org/event/outreach-subcommittee-meeting/
LOCATION:Eastside\, 801 Alpha Drive Suite 127\, Richardson\, TX\, 75081\, United States
ATTACH;FMTTYPE=image/jpeg:https://dallasareana.org/wp-content/uploads/2026/02/Outreach-Meet-March.jpg
END:VEVENT
BEGIN:VEVENT
DTSTART;TZID=UTC:20260307T133000
DTEND;TZID=UTC:20260307T220000
DTSTAMP:20260423T163510
CREATED:20260211T200241Z
LAST-MODIFIED:20260211T200614Z
UID:539-1772890200-1772920800@dallasareana.org
SUMMARY:Awakenings 20th Annual Chili Cook-Off
DESCRIPTION:
URL:https://dallasareana.org/event/awakenings-20th-annual-chili-cook-off/
LOCATION:Awakenings\, 1370 W Main Street\, Lewisville\, TX\, 75067\, United States
ATTACH;FMTTYPE=image/webp:https://dallasareana.org/wp-content/uploads/2026/02/20-Chili-Final-scaled.webp
END:VEVENT
BEGIN:VEVENT
DTSTART;TZID=UTC:20260307T120000
DTEND;TZID=UTC:20260307T183000
DTSTAMP:20260423T163510
CREATED:20260104T174619Z
LAST-MODIFIED:20260105T225054Z
UID:445-1772884800-1772908200@dallasareana.org
SUMMARY:Awakenings Annual Chili Cook Off
DESCRIPTION:
URL:https://dallasareana.org/event/awakenings-annual-chili-cook-off/
LOCATION:Awakenings\, 1370 W Main Street\, Lewisville\, TX\, 75067\, United States
ATTACH;FMTTYPE=image/jpeg:https://dallasareana.org/wp-content/uploads/2026/01/Awakenings-20th-Chilli-Cook-Off.jpg
END:VEVENT
BEGIN:VEVENT
DTSTART;TZID=UTC:20260307T100000
DTEND;TZID=UTC:20260307T180000
DTSTAMP:20260423T163510
CREATED:20260122T044403Z
LAST-MODIFIED:20260122T044403Z
UID:514-1772877600-1772906400@dallasareana.org
SUMMARY:Texas State Convention Of NA Fundraiser
DESCRIPTION:
URL:https://dallasareana.org/event/texas-state-convention-of-na-fundraiser/
LOCATION:The RAW Group\, 3103 Navarro Street\, Dallas\, TX\, United States
ATTACH;FMTTYPE=image/jpeg:https://dallasareana.org/wp-content/uploads/2026/01/TSCNA-Fundraiser.jpg
END:VEVENT
BEGIN:VEVENT
DTSTART;TZID=UTC:20260228T130000
DTEND;TZID=UTC:20260228T200000
DTSTAMP:20260423T163510
CREATED:20260122T044803Z
LAST-MODIFIED:20260122T044803Z
UID:519-1772283600-1772308800@dallasareana.org
SUMMARY:Love Of The Fellowship Speaker Jam - Irving Group
DESCRIPTION:
URL:https://dallasareana.org/event/love-of-the-fellowship-speaker-jam-irving-group/
LOCATION:Irving Group\, 2003 N. Britain Rd\, Irving\, TX\, 75061\, United States
ATTACH;FMTTYPE=image/jpeg:https://dallasareana.org/wp-content/uploads/2026/01/Love-of-the-Fellowship-Irving.jpg
END:VEVENT
BEGIN:VEVENT
DTSTART;TZID=UTC:20260222T103000
DTEND;TZID=UTC:20260222T120000
DTSTAMP:20260423T163510
CREATED:20260122T042358Z
LAST-MODIFIED:20260122T042358Z
UID:509-1771756200-1771761600@dallasareana.org
SUMMARY:H&I Walk And Orientation
DESCRIPTION:  \nMore info call Jordan 361-902-0154 or David 214-686-7990
URL:https://dallasareana.org/event/hi-walk-and-orientation/
LOCATION:Arbor Hills Nature Preserve\, 6701 W Parker Rd\, Plano\, TX\, 75093\, United States
ATTACH;FMTTYPE=image/png:https://dallasareana.org/wp-content/uploads/2026/01/HI-Walk-Feb-2026.png
END:VEVENT
BEGIN:VEVENT
DTSTART;TZID=UTC:20260215T140000
DTEND;TZID=UTC:20260215T210000
DTSTAMP:20260423T163510
CREATED:20260208T173012Z
LAST-MODIFIED:20260208T173012Z
UID:531-1771164000-1771189200@dallasareana.org
SUMMARY:NA From The Heart February Speaker Jam
DESCRIPTION:
URL:https://dallasareana.org/event/na-from-the-heart-february-speaker-jam/
LOCATION:NA From The Heart\, 1620 MLK Boulevard\, Dallas\, TX\, 75215\, United States
END:VEVENT
BEGIN:VEVENT
DTSTART;TZID=UTC:20260214T130000
DTEND;TZID=UTC:20260214T160000
DTSTAMP:20260423T163510
CREATED:20260106T234313Z
LAST-MODIFIED:20260106T234313Z
UID:460-1771074000-1771084800@dallasareana.org
SUMMARY:CAR Workshop At Town East
DESCRIPTION:
URL:https://dallasareana.org/event/car-workshop-at-town-east/
LOCATION:Town East\, 2209 Gus Thompson Road\, Mesquite\, TX\, 75150\, United States
ATTACH;FMTTYPE=image/webp:https://dallasareana.org/wp-content/uploads/2026/01/CAR-Workshps-2026.webp
END:VEVENT
BEGIN:VEVENT
DTSTART;TZID=UTC:20260207T150000
DTEND;TZID=UTC:20260207T210000
DTSTAMP:20260423T163510
CREATED:20260122T040505Z
LAST-MODIFIED:20260122T040654Z
UID:501-1770476400-1770498000@dallasareana.org
SUMMARY:!!NEW DATE FOR THE EVENT!! Nothing More Nothing Less Primary Purpose Speaker Jam - Eastside Recovery
DESCRIPTION:
URL:https://dallasareana.org/event/nothing-more-nothing-less-eastside-recovery-copy/
LOCATION:Eastside\, 801 Alpha Drive Suite 127\, Richardson\, TX\, 75081\, United States
ATTACH;FMTTYPE=image/png:https://dallasareana.org/wp-content/uploads/2026/01/New-Date-Feb-7.png
END:VEVENT
BEGIN:VEVENT
DTSTART;TZID=UTC:20260124T150000
DTEND;TZID=UTC:20260124T210000
DTSTAMP:20260423T163510
CREATED:20251111T051003Z
LAST-MODIFIED:20260122T035407Z
UID:293-1769266800-1769288400@dallasareana.org
SUMMARY:!!POSTPONED DUE TO SNOW!! Nothing More Nothing Less Primary Purpose Speaker Jam - Eastside Recovery
DESCRIPTION:
URL:https://dallasareana.org/event/nothing-more-nothing-less-eastside-recovery/
LOCATION:Eastside\, 801 Alpha Drive Suite 127\, Richardson\, TX\, 75081\, United States
ATTACH;FMTTYPE=image/png:https://dallasareana.org/wp-content/uploads/2025/11/Postponed-Event-3.png
END:VEVENT
BEGIN:VEVENT
DTSTART;VALUE=DATE:20260123
DTEND;VALUE=DATE:20260126
DTSTAMP:20260423T163510
CREATED:20251204T044305Z
LAST-MODIFIED:20260121T032924Z
UID:403-1769126400-1769385599@dallasareana.org
SUMMARY:One Promise\, Many Gifts - SOCNA's 15th Anniversary Celebration
DESCRIPTION:zoom – 429 032 0365 \npw – SOCNA
URL:https://dallasareana.org/event/one-promise-many-gifts-socnas-15th-anniversary-celebration/
LOCATION:SOCNA\, 2120 N 52nd Street\, Dallas\, TX\, 75216\, United States
ATTACH;FMTTYPE=image/jpeg:https://dallasareana.org/wp-content/uploads/2025/12/790561222_1768965700418.jpg
END:VEVENT
BEGIN:VEVENT
DTSTART;TZID=UTC:20260118T170000
DTEND;TZID=UTC:20260118T200000
DTSTAMP:20260423T163510
CREATED:20260104T165737Z
LAST-MODIFIED:20260104T165737Z
UID:440-1768755600-1768766400@dallasareana.org
SUMMARY:Garland Group's 15 Year Anniversary
DESCRIPTION:
URL:https://dallasareana.org/event/garland-groups-15-year-anniversary/
LOCATION:Garland Group\, 2660 Belt Line Road\, Garland\, TX\, 75044\, United States
ATTACH;FMTTYPE=image/jpeg:https://dallasareana.org/wp-content/uploads/2026/01/Garland-Group-15y-Anniversary.jpeg
END:VEVENT
BEGIN:VEVENT
DTSTART;TZID=UTC:20260118T140000
DTEND;TZID=UTC:20260118T170000
DTSTAMP:20260423T163510
CREATED:20260106T233817Z
LAST-MODIFIED:20260106T233817Z
UID:457-1768744800-1768755600@dallasareana.org
SUMMARY:CAR Workshop At Northside
DESCRIPTION:
URL:https://dallasareana.org/event/car-workshop-at-northside/
LOCATION:NorthSide\, 11836 Judd Ct\, Ste 318\, Dallas\, TX\, 75243\, United States
ATTACH;FMTTYPE=image/webp:https://dallasareana.org/wp-content/uploads/2026/01/CAR-Workshps-2026.webp
END:VEVENT
BEGIN:VEVENT
DTSTART;TZID=UTC:20260117T140000
DTEND;TZID=UTC:20260117T170000
DTSTAMP:20260423T163510
CREATED:20260106T232735Z
LAST-MODIFIED:20260106T233935Z
UID:452-1768658400-1768669200@dallasareana.org
SUMMARY:CAR Workshop At New Freedom Group
DESCRIPTION:
URL:https://dallasareana.org/event/car-workshop-at-new-freedom-group/
LOCATION:New Freedom Group\, 3911B Quonset Drive\, Texarkana\, AR\, 71854\, United States
ATTACH;FMTTYPE=image/png:https://dallasareana.org/wp-content/uploads/2026/01/CAR-Workshps-2026.png
END:VEVENT
BEGIN:VEVENT
DTSTART;TZID=UTC:20260110T090000
DTEND;TZID=UTC:20260110T120000
DTSTAMP:20260423T163510
CREATED:20251204T045222Z
LAST-MODIFIED:20251204T045222Z
UID:408-1768035600-1768046400@dallasareana.org
SUMMARY:NA Men's Breakfast
DESCRIPTION:
URL:https://dallasareana.org/event/na-mens-breakfast/
LOCATION:Trinity 1 Time Event\, 1202 Small Street\, Grande Prairie\, TX\, United States
ATTACH;FMTTYPE=image/jpeg:https://dallasareana.org/wp-content/uploads/2025/12/NA-Mens-Breakfast.jpg
END:VEVENT
BEGIN:VEVENT
DTSTART;TZID=UTC:20251231T200000
DTEND;TZID=UTC:20260101T010000
DTSTAMP:20260423T163510
CREATED:20251230T155032Z
LAST-MODIFIED:20251230T155032Z
UID:434-1767211200-1767229200@dallasareana.org
SUMMARY:New Year's Eve - Grove Group
DESCRIPTION:
URL:https://dallasareana.org/event/new-years-eve-grove-group/
LOCATION:Grove Group\, 2084 N Jim Miller Rd 103C\, Dallas\, TX\, 75217\, United States
ATTACH;FMTTYPE=image/jpeg:https://dallasareana.org/wp-content/uploads/2025/12/FB_IMG_1767109374601.jpg
END:VEVENT
BEGIN:VEVENT
DTSTART;TZID=UTC:20251231T193000
DTEND;TZID=UTC:20260101T003000
DTSTAMP:20260423T163510
CREATED:20251119T210436Z
LAST-MODIFIED:20251207T184104Z
UID:340-1767209400-1767227400@dallasareana.org
SUMMARY:New Year's Eve Party - KISS Allen
DESCRIPTION:
URL:https://dallasareana.org/event/new-years-eve-party-kiss-allen/
LOCATION:TX
ATTACH;FMTTYPE=image/png:https://dallasareana.org/wp-content/uploads/2025/11/KISS-NA-NYE-PARTY-2025-1.png
END:VEVENT
BEGIN:VEVENT
DTSTART;TZID=UTC:20251228T140000
DTEND;TZID=UTC:20251228T210000
DTSTAMP:20260423T163510
CREATED:20251224T233704Z
LAST-MODIFIED:20251224T233704Z
UID:430-1766930400-1766955600@dallasareana.org
SUMMARY:NA From the Heart Winter Blast Speaker Jam
DESCRIPTION:
URL:https://dallasareana.org/event/na-from-the-heart-winter-blast-speaker-jam/
LOCATION:NA From The Heart\, 1620 MLK Boulevard\, Dallas\, TX\, 75215\, United States
ATTACH;FMTTYPE=image/png:https://dallasareana.org/wp-content/uploads/2025/12/NA-From-The-Heart-Winter-Speaker-Jam.png
END:VEVENT
BEGIN:VEVENT
DTSTART;VALUE=DATE:20251227
DTEND;VALUE=DATE:20251228
DTSTAMP:20260423T163510
CREATED:20251108T185412Z
LAST-MODIFIED:20251108T185412Z
UID:290-1766793600-1766879999@dallasareana.org
SUMMARY:Duncanville Group Newcomer Speaker Jam
DESCRIPTION:
URL:https://dallasareana.org/event/duncanville-group-newcomer-speaker-jam/
LOCATION:Duncanville Group\, 2550 W Redbird Lane #206\, Dallas\, TX\, 75237\, United States
ATTACH;FMTTYPE=image/webp:https://dallasareana.org/wp-content/uploads/2025/11/STD-Duncanville-Newcomer-Speaker-Jam.webp
END:VEVENT
BEGIN:VEVENT
DTSTART;TZID=UTC:20251220T180000
DTEND;TZID=UTC:20251220T193000
DTSTAMP:20260423T163510
CREATED:20251207T185916Z
LAST-MODIFIED:20251207T185916Z
UID:425-1766253600-1766259000@dallasareana.org
SUMMARY:New Life Group's 3rd Anniversary Celebration
DESCRIPTION:Screenshot
URL:https://dallasareana.org/event/new-life-groups-3rd-anniversary-celebration/
LOCATION:New Life Group\, 4636 Ross Avenue\, Dallas\, TX\, 75204\, United States
ATTACH;FMTTYPE=image/jpeg:https://dallasareana.org/wp-content/uploads/2025/12/New-Life-Group-3rd-Anniversary.jpg
END:VEVENT
BEGIN:VEVENT
DTSTART;TZID=UTC:20251218T180000
DTEND;TZID=UTC:20251218T210000
DTSTAMP:20260423T163510
CREATED:20251124T224513Z
LAST-MODIFIED:20251124T224600Z
UID:344-1766080800-1766091600@dallasareana.org
SUMMARY:Holiday Jam - Just For Today-Greenville NA
DESCRIPTION:Dinner Games & Speaker Meeting \nBring a small gift of no more than $5 in value to exchange\, no gift no worry there will be something for everyone! \nPark at Carevide or Dollar Tree and walk across the street.
URL:https://dallasareana.org/event/holiday-jam-just-for-today-greenville-na/
LOCATION:Just For Today-Greenville NA\, 4315 Saint John St\, Greenville\, TX\, 75401\, United States
END:VEVENT
BEGIN:VEVENT
DTSTART;TZID=UTC:20251213T160000
DTEND;TZID=UTC:20251213T180000
DTSTAMP:20260423T163510
CREATED:20251027T171813Z
LAST-MODIFIED:20251104T231615Z
UID:236-1765641600-1765648800@dallasareana.org
SUMMARY:Last House On The Block Annual Holiday Party
DESCRIPTION:
URL:https://dallasareana.org/event/last-house-on-the-block-annual-holiday-party/
LOCATION:Last House On The Block\, 5835 Penrose Avenue\, Dallas\, TX\, 75206\, United States
ATTACH;FMTTYPE=image/webp:https://dallasareana.org/wp-content/uploads/2025/10/LHOTB-Holiday-Party-2025.webp
END:VEVENT
BEGIN:VEVENT
DTSTART;VALUE=DATE:20251207
DTEND;VALUE=DATE:20260308
DTSTAMP:20260423T163510
CREATED:20251207T184324Z
LAST-MODIFIED:20251207T184324Z
UID:421-1765065600-1772927999@dallasareana.org
SUMMARY:Public Relations Needs Support
DESCRIPTION:
URL:https://dallasareana.org/event/public-relations-needs-support/
LOCATION:TX
ATTACH;FMTTYPE=image/jpeg:https://dallasareana.org/wp-content/uploads/2025/12/PR-Needs-Support-Request-12-25.jpeg
END:VEVENT
BEGIN:VEVENT
DTSTART;TZID=UTC:20251206T130000
DTEND;TZID=UTC:20251206T180000
DTSTAMP:20260423T163510
CREATED:20251013T183417Z
LAST-MODIFIED:20251111T051240Z
UID:194-1765026000-1765044000@dallasareana.org
SUMMARY:Awakenings Holiday Event
DESCRIPTION:
URL:https://dallasareana.org/event/awakenings-holiday-event/
LOCATION:TX
ATTACH;FMTTYPE=image/webp:https://dallasareana.org/wp-content/uploads/2025/11/image000000001.webp
END:VEVENT
BEGIN:VEVENT
DTSTART;TZID=UTC:20251129T133000
DTEND;TZID=UTC:20251129T183000
DTSTAMP:20260423T163510
CREATED:20251027T171558Z
LAST-MODIFIED:20251030T132609Z
UID:232-1764423000-1764441000@dallasareana.org
SUMMARY:Central Group 40th Anniversary
DESCRIPTION:
URL:https://dallasareana.org/event/central-group-40th-anniversary/
LOCATION:Lancaster Recreation Center\, 1700 Veterans Memorial Drive\, Lancaster\, TX\, TX\, 75134\, United States
ATTACH;FMTTYPE=image/jpeg:https://dallasareana.org/wp-content/uploads/2025/10/image_Ori.jpg
END:VEVENT
END:VCALENDAR