BEGIN:VCALENDAR
VERSION:2.0
PRODID:-//Dallas Area Service Committee of NA - ECPv6.15.20//NONSGML v1.0//EN
CALSCALE:GREGORIAN
METHOD:PUBLISH
X-ORIGINAL-URL:https://dallasareana.org
X-WR-CALDESC:Events for Dallas Area Service Committee of NA
REFRESH-INTERVAL;VALUE=DURATION:PT1H
X-Robots-Tag:noindex
X-PUBLISHED-TTL:PT1H
BEGIN:VTIMEZONE
TZID:UTC
BEGIN:STANDARD
TZOFFSETFROM:+0000
TZOFFSETTO:+0000
TZNAME:UTC
DTSTART:20240101T000000
END:STANDARD
END:VTIMEZONE
BEGIN:VEVENT
DTSTART;TZID=UTC:20251220T180000
DTEND;TZID=UTC:20251220T193000
DTSTAMP:20260423T182445
CREATED:20251207T185916Z
LAST-MODIFIED:20251207T185916Z
UID:425-1766253600-1766259000@dallasareana.org
SUMMARY:New Life Group's 3rd Anniversary Celebration
DESCRIPTION:Screenshot
URL:https://dallasareana.org/event/new-life-groups-3rd-anniversary-celebration/
LOCATION:New Life Group\, 4636 Ross Avenue\, Dallas\, TX\, 75204\, United States
ATTACH;FMTTYPE=image/jpeg:https://dallasareana.org/wp-content/uploads/2025/12/New-Life-Group-3rd-Anniversary.jpg
END:VEVENT
BEGIN:VEVENT
DTSTART;TZID=UTC:20251218T180000
DTEND;TZID=UTC:20251218T210000
DTSTAMP:20260423T182445
CREATED:20251124T224513Z
LAST-MODIFIED:20251124T224600Z
UID:344-1766080800-1766091600@dallasareana.org
SUMMARY:Holiday Jam - Just For Today-Greenville NA
DESCRIPTION:Dinner Games & Speaker Meeting \nBring a small gift of no more than $5 in value to exchange\, no gift no worry there will be something for everyone! \nPark at Carevide or Dollar Tree and walk across the street.
URL:https://dallasareana.org/event/holiday-jam-just-for-today-greenville-na/
LOCATION:Just For Today-Greenville NA\, 4315 Saint John St\, Greenville\, TX\, 75401\, United States
END:VEVENT
BEGIN:VEVENT
DTSTART;TZID=UTC:20251213T160000
DTEND;TZID=UTC:20251213T180000
DTSTAMP:20260423T182445
CREATED:20251027T171813Z
LAST-MODIFIED:20251104T231615Z
UID:236-1765641600-1765648800@dallasareana.org
SUMMARY:Last House On The Block Annual Holiday Party
DESCRIPTION:
URL:https://dallasareana.org/event/last-house-on-the-block-annual-holiday-party/
LOCATION:Last House On The Block\, 5835 Penrose Avenue\, Dallas\, TX\, 75206\, United States
ATTACH;FMTTYPE=image/webp:https://dallasareana.org/wp-content/uploads/2025/10/LHOTB-Holiday-Party-2025.webp
END:VEVENT
BEGIN:VEVENT
DTSTART;VALUE=DATE:20251207
DTEND;VALUE=DATE:20260308
DTSTAMP:20260423T182445
CREATED:20251207T184324Z
LAST-MODIFIED:20251207T184324Z
UID:421-1765065600-1772927999@dallasareana.org
SUMMARY:Public Relations Needs Support
DESCRIPTION:
URL:https://dallasareana.org/event/public-relations-needs-support/
LOCATION:TX
ATTACH;FMTTYPE=image/jpeg:https://dallasareana.org/wp-content/uploads/2025/12/PR-Needs-Support-Request-12-25.jpeg
END:VEVENT
BEGIN:VEVENT
DTSTART;TZID=UTC:20251206T130000
DTEND;TZID=UTC:20251206T180000
DTSTAMP:20260423T182445
CREATED:20251013T183417Z
LAST-MODIFIED:20251111T051240Z
UID:194-1765026000-1765044000@dallasareana.org
SUMMARY:Awakenings Holiday Event
DESCRIPTION:
URL:https://dallasareana.org/event/awakenings-holiday-event/
LOCATION:TX
ATTACH;FMTTYPE=image/webp:https://dallasareana.org/wp-content/uploads/2025/11/image000000001.webp
END:VEVENT
BEGIN:VEVENT
DTSTART;TZID=UTC:20251129T133000
DTEND;TZID=UTC:20251129T183000
DTSTAMP:20260423T182445
CREATED:20251027T171558Z
LAST-MODIFIED:20251030T132609Z
UID:232-1764423000-1764441000@dallasareana.org
SUMMARY:Central Group 40th Anniversary
DESCRIPTION:
URL:https://dallasareana.org/event/central-group-40th-anniversary/
LOCATION:Lancaster Recreation Center\, 1700 Veterans Memorial Drive\, Lancaster\, TX\, TX\, 75134\, United States
ATTACH;FMTTYPE=image/jpeg:https://dallasareana.org/wp-content/uploads/2025/10/image_Ori.jpg
END:VEVENT
BEGIN:VEVENT
DTSTART;TZID=UTC:20251122T140000
DTEND;TZID=UTC:20251122T193000
DTSTAMP:20260423T182445
CREATED:20251108T184721Z
LAST-MODIFIED:20251108T184831Z
UID:278-1763820000-1763839800@dallasareana.org
SUMMARY:Art Party - Keep It Simple Unity Event
DESCRIPTION:
URL:https://dallasareana.org/event/art-party-keep-it-simple-unity-event/
LOCATION:Keep It Simple\, 509 Greenville Avenue\, Allen\, TX\, 75002\, United States
ATTACH;FMTTYPE=image/jpeg:https://dallasareana.org/wp-content/uploads/2025/11/image000000.jpg
END:VEVENT
BEGIN:VEVENT
DTSTART;TZID=UTC:20251116T140000
DTEND;TZID=UTC:20251116T210000
DTSTAMP:20260423T182445
CREATED:20251108T185208Z
LAST-MODIFIED:20251108T185208Z
UID:287-1763301600-1763326800@dallasareana.org
SUMMARY:Falling Into Recovery Speaker Jam - NA From the Heart
DESCRIPTION:
URL:https://dallasareana.org/event/falling-into-recovery-speaker-jam-na-from-the-heart/
LOCATION:NA From The Heart\, 1620 MLK Boulevard\, Dallas\, TX\, 75215\, United States
ATTACH;FMTTYPE=image/webp:https://dallasareana.org/wp-content/uploads/2025/11/Screenshot_20251108_124219_M365-Copilot.webp
END:VEVENT
BEGIN:VEVENT
DTSTART;TZID=UTC:20251108T140000
DTEND;TZID=UTC:20251108T200000
DTSTAMP:20260423T182445
CREATED:20251029T004632Z
LAST-MODIFIED:20251029T004632Z
UID:244-1762610400-1762632000@dallasareana.org
SUMMARY:DASC 8th Service Slam
DESCRIPTION:
URL:https://dallasareana.org/event/dasc-8th-service-slam/
LOCATION:Last House On The Block\, 5835 Penrose Avenue\, Dallas\, TX\, 75206\, United States
ATTACH;FMTTYPE=image/jpeg:https://dallasareana.org/wp-content/uploads/2025/10/8th-hi-service-slam.jpg
END:VEVENT
BEGIN:VEVENT
DTSTART;TZID=UTC:20251101T140000
DTEND;TZID=UTC:20251102T000000
DTSTAMP:20260423T182445
CREATED:20251027T171225Z
LAST-MODIFIED:20251030T132711Z
UID:228-1762005600-1762041600@dallasareana.org
SUMMARY:NorthSide 38th Anniversary
DESCRIPTION:
URL:https://dallasareana.org/event/northside-38th-anniversary/
LOCATION:NorthSide\, 11836 Judd Ct\, Ste 318\, Dallas\, TX\, 75243\, United States
ATTACH;FMTTYPE=image/jpeg:https://dallasareana.org/wp-content/uploads/2025/10/Northside-38th-anniversary.jpg
END:VEVENT
BEGIN:VEVENT
DTSTART;VALUE=DATE:20251030
DTEND;VALUE=DATE:20260131
DTSTAMP:20260423T182445
CREATED:20251030T133346Z
LAST-MODIFIED:20251030T133346Z
UID:252-1761782400-1769817599@dallasareana.org
SUMMARY:SUPPORT NEEDED FOR CENTRAL NA GROUP
DESCRIPTION:
URL:https://dallasareana.org/event/support-needed-for-central-na-group/
LOCATION:Central NA Group\, 1949 N Washington Avenue\, Dallas\, TX\, 75204\, United States
ATTACH;FMTTYPE=image/jpeg:https://dallasareana.org/wp-content/uploads/2025/10/Central.jpg
END:VEVENT
BEGIN:VEVENT
DTSTART;TZID=UTC:20251025T133000
DTEND;TZID=UTC:20251025T190000
DTSTAMP:20260423T182445
CREATED:20251010T220537Z
LAST-MODIFIED:20251010T220537Z
UID:145-1761399000-1761418800@dallasareana.org
SUMMARY:Irving Group Speaker Jam
DESCRIPTION:
URL:https://dallasareana.org/event/irving-group-speaker-jam/
LOCATION:Irving Group\, 2003 N. Britain Rd\, Irving\, TX\, 75061\, United States
ATTACH;FMTTYPE=image/jpeg:https://dallasareana.org/wp-content/uploads/2025/10/Irving-Group-Speaker-Jam.jpg
END:VEVENT
BEGIN:VEVENT
DTSTART;TZID=UTC:20251018T143000
DTEND;TZID=UTC:20251018T210000
DTSTAMP:20260423T182445
CREATED:20251006T190830Z
LAST-MODIFIED:20251010T210817Z
UID:71-1760797800-1760821200@dallasareana.org
SUMMARY:DASC 46th Anniversary[shirt design inside]
DESCRIPTION:
URL:https://dallasareana.org/event/testing/
LOCATION:TX
ATTACH;FMTTYPE=image/jpeg:https://dallasareana.org/wp-content/uploads/2025/10/DASC-46-Iten.jpg
END:VEVENT
END:VCALENDAR