BEGIN:VCALENDAR
VERSION:2.0
PRODID:-//Dallas Area Service Committee of NA - ECPv6.15.20//NONSGML v1.0//EN
CALSCALE:GREGORIAN
METHOD:PUBLISH
X-ORIGINAL-URL:https://dallasareana.org
X-WR-CALDESC:Events for Dallas Area Service Committee of NA
REFRESH-INTERVAL;VALUE=DURATION:PT1H
X-Robots-Tag:noindex
X-PUBLISHED-TTL:PT1H
BEGIN:VTIMEZONE
TZID:UTC
BEGIN:STANDARD
TZOFFSETFROM:+0000
TZOFFSETTO:+0000
TZNAME:UTC
DTSTART:20250101T000000
END:STANDARD
END:VTIMEZONE
BEGIN:VEVENT
DTSTART;TZID=UTC:20260502T130000
DTEND;TZID=UTC:20260502T190000
DTSTAMP:20260423T181311
CREATED:20260414T000148Z
LAST-MODIFIED:20260414T000207Z
UID:615-1777726800-1777748400@dallasareana.org
SUMMARY:Awakenings 13th Annual Volleyball Tournament
DESCRIPTION:
URL:https://dallasareana.org/event/awakenings-13th-annual-volleyball-tournament/
LOCATION:Awakenings\, 1370 W Main Street\, Lewisville\, TX\, 75067\, United States
ATTACH;FMTTYPE=image/webp:https://dallasareana.org/wp-content/uploads/2026/04/unnamed1.webp
END:VEVENT
BEGIN:VEVENT
DTSTART;TZID=UTC:20260517T120000
DTEND;TZID=UTC:20260517T190000
DTSTAMP:20260423T181311
CREATED:20260323T195755Z
LAST-MODIFIED:20260323T195755Z
UID:596-1779019200-1779044400@dallasareana.org
SUMMARY:SOCNA 1st Annual Womens Speaker Jam
DESCRIPTION:
URL:https://dallasareana.org/event/socna-1st-annual-womens-speaker-jam/
LOCATION:SOCNA\, 2120 N 52nd Street\, Dallas\, TX\, 75216\, United States
END:VEVENT
BEGIN:VEVENT
DTSTART;VALUE=DATE:20260522
DTEND;VALUE=DATE:20260525
DTSTAMP:20260423T181311
CREATED:20260118T153437Z
LAST-MODIFIED:20260118T153437Z
UID:485-1779408000-1779667199@dallasareana.org
SUMMARY:Texas State Convention
DESCRIPTION:Presented By Brazos Valley Area Narcotics Anonymous
URL:https://dallasareana.org/event/texas-state-convention/
LOCATION:Texas A&M Conference Center\, 177 Joe Routt Boulevard\, College Station\, TX\, 77840\, United States
ATTACH;FMTTYPE=image/jpeg:https://dallasareana.org/wp-content/uploads/2026/01/Texas-State-CON-26.jpg
END:VEVENT
BEGIN:VEVENT
DTSTART;TZID=UTC:20260523T140000
DTEND;TZID=UTC:20260523T180000
DTSTAMP:20260423T181311
CREATED:20260225T202825Z
LAST-MODIFIED:20260225T202855Z
UID:552-1779544800-1779559200@dallasareana.org
SUMMARY:LHOTB Annual Picnic
DESCRIPTION:May 23rd Last House on the Block will have their annual picnic at Flagpole Hill
URL:https://dallasareana.org/event/lhotb-annual-picnic/
LOCATION:TX
END:VEVENT
BEGIN:VEVENT
DTSTART;TZID=UTC:20260523T140000
DTEND;TZID=UTC:20260523T180000
DTSTAMP:20260423T181311
CREATED:20260422T010344Z
LAST-MODIFIED:20260422T010344Z
UID:621-1779544800-1779559200@dallasareana.org
SUMMARY:Last House on the Block Annual Picnic
DESCRIPTION:Last House on the Block will have a picnic at Flag Pole Hi Park! Food\, games\, a live band\, and fellowship.
URL:https://dallasareana.org/event/last-house-on-the-block-annual-picnic/
LOCATION:Flag Pole Hill Park\, 8015 Doran Circle\, Dallas\, TX\, 75238\, United States
ATTACH;FMTTYPE=image/png:https://dallasareana.org/wp-content/uploads/2026/04/lhotbpicnic.png
END:VEVENT
BEGIN:VEVENT
DTSTART;TZID=UTC:20260530T130000
DTEND;TZID=UTC:20260530T190000
DTSTAMP:20260423T181311
CREATED:20260203T025355Z
LAST-MODIFIED:20260405T201519Z
UID:525-1780146000-1780167600@dallasareana.org
SUMMARY:Keep It Simple's 2nd Annual Speaker Jam
DESCRIPTION:
URL:https://dallasareana.org/event/keep-it-simples-2nd-annual-speaker-jam/
LOCATION:Keep It Simple\, 509 Greenville Avenue\, Allen\, TX\, 75002\, United States
ATTACH;FMTTYPE=image/jpeg:https://dallasareana.org/wp-content/uploads/2026/02/Movie-Pos.jpg
END:VEVENT
END:VCALENDAR